BEGIN:VCALENDAR
VERSION:2.0
PRODID:-//National Center for Civil and Human Rights - ECPv6.15.20//NONSGML v1.0//EN
CALSCALE:GREGORIAN
METHOD:PUBLISH
X-ORIGINAL-URL:https://www.civilandhumanrights.org
X-WR-CALDESC:Events for National Center for Civil and Human Rights
REFRESH-INTERVAL;VALUE=DURATION:PT1H
X-Robots-Tag:noindex
X-PUBLISHED-TTL:PT1H
BEGIN:VTIMEZONE
TZID:America/New_York
BEGIN:DAYLIGHT
TZOFFSETFROM:-0500
TZOFFSETTO:-0400
TZNAME:EDT
DTSTART:20250309T070000
END:DAYLIGHT
BEGIN:STANDARD
TZOFFSETFROM:-0400
TZOFFSETTO:-0500
TZNAME:EST
DTSTART:20251102T060000
END:STANDARD
BEGIN:DAYLIGHT
TZOFFSETFROM:-0500
TZOFFSETTO:-0400
TZNAME:EDT
DTSTART:20260308T070000
END:DAYLIGHT
BEGIN:STANDARD
TZOFFSETFROM:-0400
TZOFFSETTO:-0500
TZNAME:EST
DTSTART:20261101T060000
END:STANDARD
BEGIN:DAYLIGHT
TZOFFSETFROM:-0500
TZOFFSETTO:-0400
TZNAME:EDT
DTSTART:20270314T070000
END:DAYLIGHT
BEGIN:STANDARD
TZOFFSETFROM:-0400
TZOFFSETTO:-0500
TZNAME:EST
DTSTART:20271107T060000
END:STANDARD
END:VTIMEZONE
BEGIN:VEVENT
DTSTART;TZID=America/New_York:20260425T100000
DTEND;TZID=America/New_York:20260425T160000
DTSTAMP:20260422T042221
CREATED:20260326T021729Z
LAST-MODIFIED:20260330T200223Z
UID:142842-1777111200-1777132800@www.civilandhumanrights.org
SUMMARY:Change Agent Adventure Grand Opening
DESCRIPTION:Celebrate the grand opening of Change Agent Adventure: Children’s Gallery at the National Center for Civil and Human Rights—an all-new\, interactive experience designed especially for children ages 12 and under. This immersive gallery invites young visitors to step into a “secret headquarters” where they’ll discover how kids throughout history have challenged injustice and made a difference.\n\nThrough hands-on activities\, storytelling\, and creative play\, children will explore big ideas such as empathy\, fairness\, and courage in engaging\, age-appropriate ways. From designing their own change-agent identity to learning from real young advocates\, every moment is designed to inspire action and imagination.\n\nJoin us for this exciting opening day and be among the first to experience a space where families can learn\, connect\, and empower the next generation of changemakers.
URL:https://www.civilandhumanrights.org/events/change-agent-adventure-grand-opening/
LOCATION:National Center for Civil and Human Rights\, 100 Ivan Allen Jr. Blvd\, Atlanta\, GA\, 30313\, United States
CATEGORIES:Family Programming,In-person
ATTACH;FMTTYPE=image/png:https://www.civilandhumanrights.org/wp-content/uploads/2026/03/Event-Flyer.png
END:VEVENT
BEGIN:VEVENT
DTSTART;TZID=America/New_York:20260425T100000
DTEND;TZID=America/New_York:20260425T160000
DTSTAMP:20260422T042221
CREATED:20260417T192359Z
LAST-MODIFIED:20260417T193342Z
UID:142979-1777111200-1777132800@www.civilandhumanrights.org
SUMMARY:Saturday Adventures at the Center
DESCRIPTION:Looking for a fun\, meaningful way to spend the day with your family? Make Saturdays your go-to adventure at the National Center for Civil and Human Rights—a vibrant museum where kids can play\, explore\, and discover stories that shape the world around them. \n\nStart your visit in Change Agent Adventure: Children’s Gallery\, an interactive “secret headquarters” designed especially for children 12 and under. Here\, young changemakers can step into action through hands-on play\, creative problem-solving\, and activities that build empathy\, courage\, and confidence. \nThen\, keep the adventure going throughout the museum with family-friendly experiences designed to spark curiosity and conversation. From engaging storytimes to creative crafts and interactive activities\, each Saturday brings something new to explore together. \nWhether you’re building a weekly tradition or planning a special outing\, Saturdays at the Center offer a fun\, inspiring day your whole family will love.
URL:https://www.civilandhumanrights.org/events/saturday-adventure-april-25/
LOCATION:National Center for Civil and Human Rights\, 100 Ivan Allen Jr. Blvd\, Atlanta\, GA\, 30313\, United States
CATEGORIES:Family Programming,In-person
ATTACH;FMTTYPE=image/jpeg:https://www.civilandhumanrights.org/wp-content/uploads/2026/04/Saturday-Adventure.jpg
END:VEVENT
BEGIN:VEVENT
DTSTART;TZID=America/New_York:20260502T100000
DTEND;TZID=America/New_York:20260502T160000
DTSTAMP:20260422T042221
CREATED:20260417T192628Z
LAST-MODIFIED:20260417T193014Z
UID:142982-1777716000-1777737600@www.civilandhumanrights.org
SUMMARY:Saturday Adventures at the Center
DESCRIPTION:Looking for a fun\, meaningful way to spend the day with your family? Make Saturdays your go-to adventure at the National Center for Civil and Human Rights—a vibrant museum where kids can play\, explore\, and discover stories that shape the world around them. \n\nStart your visit in Change Agent Adventure: Children’s Gallery\, an interactive “secret headquarters” designed especially for children 12 and under. Here\, young changemakers can step into action through hands-on play\, creative problem-solving\, and activities that build empathy\, courage\, and confidence. \nThen\, keep the adventure going throughout the museum with family-friendly experiences designed to spark curiosity and conversation. From engaging storytimes to creative crafts and interactive activities\, each Saturday brings something new to explore together. \nWhether you’re building a weekly tradition or planning a special outing\, Saturdays at the Center offer a fun\, inspiring day your whole family will love.
URL:https://www.civilandhumanrights.org/events/saturday-adventures-may-2/
LOCATION:National Center for Civil and Human Rights\, 100 Ivan Allen Jr. Blvd\, Atlanta\, GA\, 30313\, United States
CATEGORIES:Family Programming,In-person
ATTACH;FMTTYPE=image/jpeg:https://www.civilandhumanrights.org/wp-content/uploads/2026/04/Saturday-Adventure.jpg
END:VEVENT
BEGIN:VEVENT
DTSTART;VALUE=DATE:20260622
DTEND;VALUE=DATE:20260627
DTSTAMP:20260422T042221
CREATED:20260225T173854Z
LAST-MODIFIED:20260225T173854Z
UID:142696-1782086400-1782518399@www.civilandhumanrights.org
SUMMARY:Summer Institute: Civil Rights Teaching Fellowship
DESCRIPTION:This summer\, as part of the Civil Rights Teaching Fellowship\, educators will gather for a five-day Summer Institute focused on Student Activism in the Civil Rights Era: SNCC and Beyond.  Young people have always shaped movements for justice. From sit-ins to freedom schools\, student leaders transformed the nation. This institute explores that legacy and equips educators to bring those stories into today’s classrooms with depth and honesty.  Teaching Fellows will work with leading historians and education experts to examine primary sources\, explore effective pedagogical approaches\, and strengthen their civic learning. Fellows will also engage directly with the Center’s expanded exhibits and connect with archival and cultural resources in and beyond Atlanta.  To participate in the Summer Institute\, you must be a Civil Rights Teaching Fellow. Please visit the fellowship page to apply. Applications are being accepted until April 15\, 2026. 
URL:https://www.civilandhumanrights.org/events/summer-institute-2026/
LOCATION:National Center for Civil and Human Rights\, 100 Ivan Allen Jr. Blvd\, Atlanta\, GA\, 30313\, United States
ATTACH;FMTTYPE=image/png:https://www.civilandhumanrights.org/wp-content/uploads/2026/02/EDU-260201-TeachingFellowship-WebGraphic.png
END:VEVENT
END:VCALENDAR